BEGIN:VCALENDAR
VERSION:2.0
PRODID:-//jEvents 2.0 for Joomla//EN
CALSCALE:GREGORIAN
METHOD:PUBLISH
BEGIN:VTIMEZONE
TZID:Europe/Berlin
BEGIN:STANDARD
DTSTART:20251026T020000
RDATE:20260329T030000
TZOFFSETFROM:+0200
TZOFFSETTO:+0100
TZNAME:Europe/Berlin CET
END:STANDARD
BEGIN:STANDARD
DTSTART:20261025T020000
RDATE:20270328T030000
TZOFFSETFROM:+0200
TZOFFSETTO:+0100
TZNAME:Europe/Berlin CET
END:STANDARD
BEGIN:STANDARD
DTSTART:20271031T020000
RDATE:20280326T030000
TZOFFSETFROM:+0200
TZOFFSETTO:+0100
TZNAME:Europe/Berlin CET
END:STANDARD
BEGIN:DAYLIGHT
DTSTART:20250611T000000
RDATE:20251026T020000
TZOFFSETFROM:+0100
TZOFFSETTO:+0200
TZNAME:Europe/Berlin CEST
END:DAYLIGHT
BEGIN:DAYLIGHT
DTSTART:20260329T030000
RDATE:20261025T020000
TZOFFSETFROM:+0100
TZOFFSETTO:+0200
TZNAME:Europe/Berlin CEST
END:DAYLIGHT
BEGIN:DAYLIGHT
DTSTART:20270328T030000
RDATE:20271031T020000
TZOFFSETFROM:+0100
TZOFFSETTO:+0200
TZNAME:Europe/Berlin CEST
END:DAYLIGHT
END:VTIMEZONE
BEGIN:VEVENT
UID:5d142a0fd9fc88c6ab06c6c2041b4789
CATEGORIES:Hauptgruppe
CREATED:20251109T183146
SUMMARY:Aulataler - Auftritt zur Eröffnung des Hessentags
LOCATION:Universitätsplatz\, Fulda
URL;VALUE=URI:https://die-aulataler.de/terminkalender/eventdetail/324/-/auftritt-zur-eroe
 ffnung-des-hessentags?tmpl=component
DESCRIPTION:<p>Details folgen sobald bekannt!</p> <a href="https://die-aulataler.de/ter
 minkalender/eventdetail/324/-/auftritt-zur-eroeffnung-des-hessentags?tmpl=c
 omponent">Dieser Event wurde importiert von: https://die-aulataler.de/termi
 nkalender/eventdetail/324/-/auftritt-zur-eroeffnung-des-hessentags?tmpl=com
 ponent</a>DTSTAMP:20260422T164617
DTSTART;TZID=Europe/Berlin;VALUE=DATE:20260612
DTEND;TZID=Europe/Berlin;VALUE=DATE:20260613
SEQUENCE:0
TRANSP:OPAQUE
END:VEVENT
END:VCALENDAR