BEGIN:VCALENDAR
VERSION:2.0
PRODID:-//jEvents 2.0 for Joomla//EN
CALSCALE:GREGORIAN
METHOD:PUBLISH
BEGIN:VTIMEZONE
TZID:Europe/Berlin
BEGIN:STANDARD
DTSTART:20241027T020000
RDATE:20250330T030000
TZOFFSETFROM:+0200
TZOFFSETTO:+0100
TZNAME:Europe/Berlin CET
END:STANDARD
BEGIN:STANDARD
DTSTART:20251026T020000
RDATE:20260329T030000
TZOFFSETFROM:+0200
TZOFFSETTO:+0100
TZNAME:Europe/Berlin CET
END:STANDARD
BEGIN:STANDARD
DTSTART:20261025T020000
RDATE:20270328T030000
TZOFFSETFROM:+0200
TZOFFSETTO:+0100
TZNAME:Europe/Berlin CET
END:STANDARD
BEGIN:STANDARD
DTSTART:20271031T020000
RDATE:20280326T030000
TZOFFSETFROM:+0200
TZOFFSETTO:+0100
TZNAME:Europe/Berlin CET
END:STANDARD
BEGIN:DAYLIGHT
DTSTART:20240712T170000
RDATE:20241027T020000
TZOFFSETFROM:+0100
TZOFFSETTO:+0200
TZNAME:Europe/Berlin CEST
END:DAYLIGHT
BEGIN:DAYLIGHT
DTSTART:20250330T030000
RDATE:20251026T020000
TZOFFSETFROM:+0100
TZOFFSETTO:+0200
TZNAME:Europe/Berlin CEST
END:DAYLIGHT
BEGIN:DAYLIGHT
DTSTART:20260329T030000
RDATE:20261025T020000
TZOFFSETFROM:+0100
TZOFFSETTO:+0200
TZNAME:Europe/Berlin CEST
END:DAYLIGHT
BEGIN:DAYLIGHT
DTSTART:20270328T030000
RDATE:20271031T020000
TZOFFSETFROM:+0100
TZOFFSETTO:+0200
TZNAME:Europe/Berlin CEST
END:DAYLIGHT
END:VTIMEZONE
BEGIN:VEVENT
UID:734240579bed76c2da70b8527c431fca
CATEGORIES:HVT Bezirksgruppe Ost
CREATED:20250323T222633
SUMMARY:Aulataler - Auftritt in Schlitz 
LOCATION:Bühne im Hof der Vorderburg\, 36110 Schlitz
URL;VALUE=URI:https://die-aulataler.de/terminkalender/eventdetail/299/-/auftritt-in-schli
 tz?tmpl=component
DESCRIPTION:<p>Alle zwei Jahre findet in der Burgenstadt Schlitz das bekannte interntio
 nale Musik- und Folklore-Festival statt. Neben Gastgruppen aus aller Welt t
 reten auch Folkloregruppen aus Deutschland auf, darunter die Bezirksgruppe 
 Ost der Hessischen Vereinigung für Tanz- und Trachtenpflege (HVT). Alle Inf
 os zum Fest unter <a href="https://www.schlitzer-trachtenfest.de" target="_
 blank" rel="noopener">https://www.schlitzer-trachtenfest.de</a> </p> <a hre
 f="https://die-aulataler.de/terminkalender/eventdetail/299/-/auftritt-in-sc
 hlitz?tmpl=component">Dieser Event wurde importiert von: https://die-aulata
 ler.de/terminkalender/eventdetail/299/-/auftritt-in-schlitz?tmpl=component<
 /a>DTSTAMP:20260422T201451
DTSTART;TZID=Europe/Berlin:20250713T170000
DTEND;TZID=Europe/Berlin:20250713T173000
SEQUENCE:0
TRANSP:OPAQUE
END:VEVENT
END:VCALENDAR