BEGIN:VCALENDAR
VERSION:2.0
PRODID:-//jEvents 2.0 for Joomla//EN
CALSCALE:GREGORIAN
METHOD:PUBLISH
BEGIN:VTIMEZONE
TZID:Europe/Berlin
BEGIN:STANDARD
DTSTART:20240322T180000
RDATE:20240331T030000
TZOFFSETFROM:+0200
TZOFFSETTO:+0100
TZNAME:Europe/Berlin CET
END:STANDARD
BEGIN:STANDARD
DTSTART:20241027T020000
RDATE:20250330T030000
TZOFFSETFROM:+0200
TZOFFSETTO:+0100
TZNAME:Europe/Berlin CET
END:STANDARD
BEGIN:STANDARD
DTSTART:20251026T020000
RDATE:20260329T030000
TZOFFSETFROM:+0200
TZOFFSETTO:+0100
TZNAME:Europe/Berlin CET
END:STANDARD
BEGIN:STANDARD
DTSTART:20261025T020000
RDATE:20270328T030000
TZOFFSETFROM:+0200
TZOFFSETTO:+0100
TZNAME:Europe/Berlin CET
END:STANDARD
BEGIN:STANDARD
DTSTART:20271031T020000
RDATE:20280326T030000
TZOFFSETFROM:+0200
TZOFFSETTO:+0100
TZNAME:Europe/Berlin CET
END:STANDARD
BEGIN:DAYLIGHT
DTSTART:20240331T030000
RDATE:20241027T020000
TZOFFSETFROM:+0100
TZOFFSETTO:+0200
TZNAME:Europe/Berlin CEST
END:DAYLIGHT
BEGIN:DAYLIGHT
DTSTART:20250330T030000
RDATE:20251026T020000
TZOFFSETFROM:+0100
TZOFFSETTO:+0200
TZNAME:Europe/Berlin CEST
END:DAYLIGHT
BEGIN:DAYLIGHT
DTSTART:20260329T030000
RDATE:20261025T020000
TZOFFSETFROM:+0100
TZOFFSETTO:+0200
TZNAME:Europe/Berlin CEST
END:DAYLIGHT
BEGIN:DAYLIGHT
DTSTART:20270328T030000
RDATE:20271031T020000
TZOFFSETFROM:+0100
TZOFFSETTO:+0200
TZNAME:Europe/Berlin CEST
END:DAYLIGHT
END:VTIMEZONE
BEGIN:VEVENT
UID:d262bb00b33e3e755fb138f0d306cdcc
CATEGORIES:HVT Bezirksgruppe Ost
CREATED:20250228T182359
SUMMARY:Aulataler - Bezirksprobe
LOCATION:Gruppenraum\, Bürgerhaus Kirchheim
URL;VALUE=URI:https://die-aulataler.de/terminkalender/eventdetail/289/-/bezirksprobe?tmpl
 =component
DESCRIPTION:Tanzprobe der HVT Bezirksgruppe Ost\n Dieser Event wurde importiert von: ht
 tps://die-aulataler.de/terminkalender/eventdetail/289/-/bezirksprobe?tmpl=c
 omponent (https://die-aulataler.de/terminkalender/eventdetail/289/-/bezirks
 probe?tmpl=component)
X-ALT-DESC;FMTTYPE=text/html:<p>Tanzprobe der HVT Bezirksgruppe Ost</p> <a href="https://die-aulataler.d
 e/terminkalender/eventdetail/289/-/bezirksprobe?tmpl=component">Dieser Even
 t wurde importiert von: https://die-aulataler.de/terminkalender/eventdetail
 /289/-/bezirksprobe?tmpl=component</a>DTSTAMP:20260422T201021
DTSTART;TZID=Europe/Berlin:20250323T180000
DTEND;TZID=Europe/Berlin:20250323T200000
SEQUENCE:0
TRANSP:OPAQUE
END:VEVENT
END:VCALENDAR